BEGIN:VCALENDAR
VERSION:2.0
PRODID:-//hacksw/handcal//NONSGML v1.0//EN
BEGIN:VEVENT
DTSTART:20211018T090000
DTEND:20211018T180000
LOCATION:Maison de la Chimie \n28, rue Saint Dominique \n75007  Paris
ORGANIZER;CN=Chloe Combet:MAILTO:chloe.combet@ubfc.fr
SUMMARY:35ème édition du Forum Horizon Chimie
DESCRIPTION:Au vu de la situation sanitaire et des annonces du gouvernement, l’équipe organisatrice du Forum Horizon Chimie a choisi de décaler l’événement : il ne se tiendra donc pas ce 4 février.Le Forum...
URL:https://alumni.ubfc.fr/en/event/35eme-edition-du-forum-horizon-chimie/2021/10/18/37
BEGIN:VALARM
TRIGGER:-P0DT1H0M0S
ACTION:DISPLAY
END:VALARM
END:VEVENT
END:VCALENDAR