BEGIN:VCALENDAR
VERSION:2.0
PRODID:-//hacksw/handcal//NONSGML v1.0//EN
BEGIN:VEVENT
DTSTART:20201012T100000
DTEND:20201013T170000
LOCATION:Besançon-Micropolis et Dijon-Palais des congrès
ORGANIZER;CN=Chloe Combet:MAILTO:chloe.combet@ubfc.fr
SUMMARY:Colloque scientifique ISITE-BFC
DESCRIPTION:L’année 2020 porte le 1er colloque scientifique ISITE-BFC !Les 12 et 13 octobre 2020 auront lieu deux journées scientifiques portées par Université Bourgogne Franche-Comté (UBFC) et organisées par le ...
URL:https://alumni.ubfc.fr/fr/event/colloque-scientifique-isite-bfc/2020/10/12/16
BEGIN:VALARM
TRIGGER:-P0DT1H0M0S
ACTION:DISPLAY
END:VALARM
END:VEVENT
END:VCALENDAR