BEGIN:VCALENDAR
VERSION:2.0
PRODID:-//hacksw/handcal//NONSGML v1.0//EN
BEGIN:VEVENT
DTSTART:20201029T090000
DTEND:20201030T163000
LOCATION:En ligne
ORGANIZER;CN=Chloe Combet:MAILTO:chloe.combet@ubfc.fr
SUMMARY:Printemps de la Cardiologie Recherche Fondamentale & Clinique
DESCRIPTION:Le prochain Printemps de la Cardiologie organisé par le GRRC se déroulera les 29 et 30 octobre 2020 à Grenoble et en version digitale ! Nous vous invitons donc à innover avec nous, car :Le Printemps...
URL:https://alumni.ubfc.fr/fr/event/printemps-de-la-cardiologie-recherche-fondamentale-clinique/2020/10/29/21
BEGIN:VALARM
TRIGGER:-P0DT1H0M0S
ACTION:DISPLAY
END:VALARM
END:VEVENT
END:VCALENDAR