BEGIN:VCALENDAR
VERSION:2.0
PRODID:-//hacksw/handcal//NONSGML v1.0//EN
BEGIN:VEVENT
DTSTART:20210120T180000
DTEND:20210120T200000
LOCATION:
ORGANIZER;CN=Chloe Combet:MAILTO:chloe.combet@ubfc.fr
SUMMARY:Les réseaux sociaux à titre professionnel
DESCRIPTION:Le Crous BFC associé à Idee, la Région Bourgogne-Franche-Comté et la CVEC vous propose un atelier sur comment utiliser les réseaux sociaux à titre professionnel.Nous connaissons tous les réseaux...
URL:https://alumni.ubfc.fr/fr/event/les-reseaux-sociaux-a-titre-professionnel/2021/01/20/47
BEGIN:VALARM
TRIGGER:-P0DT1H0M0S
ACTION:DISPLAY
END:VALARM
END:VEVENT
END:VCALENDAR